BEGIN:VCALENDAR
VERSION:2.0
PRODID:-//ChamberMaster//Event Calendar 2.0//EN
METHOD:PUBLISH
X-PUBLISHED-TTL:P3D
REFRESH-INTERVAL:P3D
CALSCALE:GREGORIAN
BEGIN:VEVENT
DTSTART:20191218T233000Z
DTEND:20191219T013000Z
X-MICROSOFT-CDO-ALLDAYEVENT:FALSE
SUMMARY:Jingle & Mingle
DESCRIPTION:CCHBA Christmas Party\n\nJoin us to celebrate the Holiday Season with oysters\, wings and and more at the Sanitary Fish Market!
X-ALT-DESC;FMTTYPE=text/html:CCHBA Christmas Party<br />\nJoin us to celebrate the Holiday Season with oysters\, wings and and more at the Sanitary Fish Market!&nbsp\; &nbsp\;&nbsp\;&nbsp\;&nbsp\;&nbsp\;&nbsp\;
LOCATION:Sanitary Fish Market & Restaurant
UID:e.9651.5
SEQUENCE:3
DTSTAMP:20260423T091516Z
URL:https://members.carterethba.com/events/details/jingle-mingle-5
END:VEVENT

END:VCALENDAR
